BEGIN:VCALENDAR
VERSION:2.0
PRODID:-//Teatri Stabil Furlan Udine | Spettacoli dal vivo in lingua friulana - ECPv6.15.5//NONSGML v1.0//EN
CALSCALE:GREGORIAN
METHOD:PUBLISH
X-ORIGINAL-URL:https://teatristabilfurlan.it
X-WR-CALDESC:Eventi per Teatri Stabil Furlan Udine | Spettacoli dal vivo in lingua friulana
REFRESH-INTERVAL;VALUE=DURATION:PT1H
X-Robots-Tag:noindex
X-PUBLISHED-TTL:PT1H
BEGIN:VTIMEZONE
TZID:Europe/Rome
BEGIN:DAYLIGHT
TZOFFSETFROM:+0100
TZOFFSETTO:+0200
TZNAME:CEST
DTSTART:20240331T010000
END:DAYLIGHT
BEGIN:STANDARD
TZOFFSETFROM:+0200
TZOFFSETTO:+0100
TZNAME:CET
DTSTART:20241027T010000
END:STANDARD
END:VTIMEZONE
BEGIN:VEVENT
DTSTART;TZID=Europe/Rome:20240721T213000
DTEND;TZID=Europe/Rome:20240721T213000
DTSTAMP:20260420T120358
CREATED:20240517T083922Z
LAST-MODIFIED:20240704T092033Z
UID:40164-1721597400-1721597400@teatristabilfurlan.it
SUMMARY:Le tue parole
DESCRIPTION:Co-produzion / Co-produzione \nARLeF – Agjenzie Regjonâl pe Lenghe Furlane e Mittelfest2024 \nIn colaborazion cun / In collaborazione con \nTeatri Stabil Furlan \nTescj di / Testi di \nPierluigi Cappello \nDramaturgjie / Drammaturgia \nGiuseppe Battiston e Paola Rota \nMusichis origjinâls / Musiche originali \nPiero Sidoti \nCun / Con \nGiuseppe Battiston \nE musiche dal vîf di / E musica dal vivo di \nPiero Sidoti \nRegjie / Regia \nPaola Rota \nLûs / Luci \nAndrea Violato \nPoete e prosatôr liric\, la opare di Pierluigi Cappello e à traviersât lis formis cui viers des sôs marilenghis\, furlan e talian\, e e à incrosât la sonoritât de poesie cu la sô capacitât di contâ dal metafisic a tacâ de dimension piçule e concrete des robis\, ancje di chês plui sterpis e duris. Divagant tal unic romanç di Cappello\, “Questa libertà”\, e lis sôs poesiis\, Giuseppe Battiston e il musicist Piero Sidoti a fasin onôr ae poesie dal autôr. A metin adun la musiche e la peraule taliane e furlane\, rompint e zuiant cu lis formis e i lûcs comuns\, par tornâ a cjatâ dentri di lôr il podê creatîf e libar de evocazion. \nPoeta e prosatore lirico\, l’opera di Pierluigi Cappello ha attraversato le forme in versi delle sue lingue madri\, friulano ed italiano\, combinando la sonorità della poesia con la sua capacità di raccontare il metafisico a partire dalla dimensione minuta e concreta delle cose\, anche delle più aride e dure. Così\, i paesaggi dell’infanzia a Chiusaforte\, gli anni di sfollamento del terremoto\, come le lunghe costrizioni dovute alla malattia\, si mescolano ed esplodono\, con la capacità di generare immaginari molteplici e inattesi\, di viaggiare materialmente con la scrittura oltre il caos. Divagando tra l’unico romanzo di Cappello\, Questa libertà\, e le poesie\, Giuseppe Battiston e il musicista Piero Sidoti omaggiano la poesia dell’autore\, contrappuntando la musica e la parola italiana e friulana\, in una rottura e gioco con le forme e i luoghi consueti\, per ritrovare dentro di loro il potere immaginifico e libero dell’evocazione. \nIn câs di brut timp\, il spetacul si fasarà te Glesie di San Francesc / Nel caso di maltempo\, lo spettacolo è spostato nella Chiesa di San Francesco \nSpetacul in lenghe taliane e furlane cun soretitui par talian / Spettacolo in italiano e friulano con sovratitoli in italiano \nBiliets / Biglietti \nwww.vivaticket.com \nPlui informazions / Più informazioni \nwww.mittelfest.org
URL:https://teatristabilfurlan.it/spettacolo/franco-marchetta/
LOCATION:Cividale Del Friuli\, Piazza Duomo\, Udine\, Cividale Del Friuli\, 33043\, Italia
CATEGORIES:Spettacoli
ATTACH;FMTTYPE=image/jpeg:https://teatristabilfurlan.it/wp-content/uploads/2024/05/S_MF-le-tue-parole-1.jpg
ORGANIZER;CN="Teatri Stabil Furlan":MAILTO:info@teatristabilfurlan.it
END:VEVENT
END:VCALENDAR